BEGIN:VCALENDAR
VERSION:2.0
PRODID:-//NFCC - ECPv6.15.19//NONSGML v1.0//EN
CALSCALE:GREGORIAN
METHOD:PUBLISH
X-ORIGINAL-URL:https://uat.nfcc.org.uk
X-WR-CALDESC:Events for NFCC
REFRESH-INTERVAL;VALUE=DURATION:PT1H
X-Robots-Tag:noindex
X-PUBLISHED-TTL:PT1H
BEGIN:VTIMEZONE
TZID:Europe/London
BEGIN:DAYLIGHT
TZOFFSETFROM:+0000
TZOFFSETTO:+0100
TZNAME:BST
DTSTART:20230326T010000
END:DAYLIGHT
BEGIN:STANDARD
TZOFFSETFROM:+0100
TZOFFSETTO:+0000
TZNAME:GMT
DTSTART:20231029T010000
END:STANDARD
BEGIN:DAYLIGHT
TZOFFSETFROM:+0000
TZOFFSETTO:+0100
TZNAME:BST
DTSTART:20240331T010000
END:DAYLIGHT
BEGIN:STANDARD
TZOFFSETFROM:+0100
TZOFFSETTO:+0000
TZNAME:GMT
DTSTART:20241027T010000
END:STANDARD
BEGIN:DAYLIGHT
TZOFFSETFROM:+0000
TZOFFSETTO:+0100
TZNAME:BST
DTSTART:20250330T010000
END:DAYLIGHT
BEGIN:STANDARD
TZOFFSETFROM:+0100
TZOFFSETTO:+0000
TZNAME:GMT
DTSTART:20251026T010000
END:STANDARD
BEGIN:DAYLIGHT
TZOFFSETFROM:+0000
TZOFFSETTO:+0100
TZNAME:BST
DTSTART:20260329T010000
END:DAYLIGHT
BEGIN:STANDARD
TZOFFSETFROM:+0100
TZOFFSETTO:+0000
TZNAME:GMT
DTSTART:20261025T010000
END:STANDARD
BEGIN:DAYLIGHT
TZOFFSETFROM:+0000
TZOFFSETTO:+0100
TZNAME:BST
DTSTART:20270328T010000
END:DAYLIGHT
BEGIN:STANDARD
TZOFFSETFROM:+0100
TZOFFSETTO:+0000
TZNAME:GMT
DTSTART:20271031T010000
END:STANDARD
END:VTIMEZONE
BEGIN:VEVENT
DTSTART;TZID=Europe/London:20241112T100000
DTEND;TZID=Europe/London:20260131T123000
DTSTAMP:20260425T163825
CREATED:20241008T144702Z
LAST-MODIFIED:20250624T160706Z
UID:10000051-1731405600-1769862600@uat.nfcc.org.uk
SUMMARY:Fire Standards Workshops (Online)
DESCRIPTION:In this series of workshops\, the Implementation Team will take you through a detailed overview of a Fire Standard\, how it fits in the wider FRS context\, what support is available to help you implement the Standard within your Service\, and facilitate a discussion on best practice and assurance. \nWe encourage all attendees to actively participate in sharing their successes and learning so far. \nEach workshop will run 10:00-12:30\, and will also provide opportunity for a Q&A. \nPlease see below for the workshops scheduled so far\, or email implementationsupport@nfcc.org.uk to be added to the waiting list for a fully booked session. \n  \nUpcoming Workshops \n07 July – Emergency Preparedness and Resilience\n22 July – Fire Investigation\n29 July – Digital and Cyber\n05 August – Data Management\n12 August – Communications and Engagement\n19 August – Internal Governance and Assurance\n09 September – Procurement and Commercial\n16 September – Fire Control\n23 September – Protection\n28 October – Digital and Cyber\n11 November – Communications and Engagement\n18 November – Internal Governance and Assurance\n25 November – Emergency Preparedness and Resilience\n09 December – Procurement and Commercial\n16 December – Data Management \n2026 Dates \n06 January – Fire Control\n20 January – Protection \n  \n 
URL:https://uat.nfcc.org.uk/event/fire-standards-workshops-online/
CATEGORIES:Improvement,Webinar/Online Event,Workshop
ATTACH;FMTTYPE=image/jpeg:https://uat.nfcc.org.uk/wp-content/uploads/2024/09/FSB-Logo-master-colour.jpg
LOCATION:https://uat.nfcc.org.uk/event/fire-standards-workshops-online/
END:VEVENT
BEGIN:VEVENT
DTSTART;TZID=Europe/London:20260209T113000
DTEND;TZID=Europe/London:20260212T140000
DTSTAMP:20260425T163825
CREATED:20250603T092957Z
LAST-MODIFIED:20260217T100037Z
UID:10000065-1770636600-1770904800@uat.nfcc.org.uk
SUMMARY:NFCC Operational Preparedness\, Response\, and Resilience Conference
DESCRIPTION:NFCC Operational Preparedness\, Response\, and Resilience Conference \n9th – 12th February 2026\, Chesford Grange\, Kenilworth \nFurther information about the conference will be released soon.
URL:https://uat.nfcc.org.uk/event/nfcc-operational-preparedness-conference/
LOCATION:Chesford Grange Hotel\, Chesford Grange Hotel\, Kenilworth\, Warwickshire\, CV8 2LD\, United Kingdom
CATEGORIES:Conference,Operations
ATTACH;FMTTYPE=image/jpeg:https://uat.nfcc.org.uk/wp-content/uploads/2023/07/Women-in-Fire-Service-4P8A1989.jpg
END:VEVENT
BEGIN:VEVENT
DTSTART;TZID=Europe/London:20260220T080000
DTEND;TZID=Europe/London:20260220T170000
DTSTAMP:20260425T163825
CREATED:20260210T140624Z
LAST-MODIFIED:20260210T141543Z
UID:10000070-1771574400-1771606800@uat.nfcc.org.uk
SUMMARY:Test Hidden Event - To Public
DESCRIPTION:Test
URL:https://uat.nfcc.org.uk/event/test-hidden-event/
CATEGORIES:Digital & Data
ATTACH;FMTTYPE=image/png:https://uat.nfcc.org.uk/wp-content/uploads/2025/06/Wildfire-course-image_circular.png
END:VEVENT
BEGIN:VEVENT
DTSTART;TZID=Europe/London:20260224T080000
DTEND;TZID=Europe/London:20260224T170000
DTSTAMP:20260425T163825
CREATED:20260210T135759Z
LAST-MODIFIED:20260210T141450Z
UID:10000069-1771920000-1771952400@uat.nfcc.org.uk
SUMMARY:Test Public Event - To Hidden
DESCRIPTION:Test
URL:https://uat.nfcc.org.uk/event/test-public-event/
CATEGORIES:Digital & Data
ATTACH;FMTTYPE=image/png:https://uat.nfcc.org.uk/wp-content/uploads/2026/02/Conference-stock-16-x-9-1-1.png
END:VEVENT
BEGIN:VEVENT
DTSTART;TZID=Europe/London:20260323T080000
DTEND;TZID=Europe/London:20260325T170000
DTSTAMP:20260425T163825
CREATED:20260323T111708Z
LAST-MODIFIED:20260323T143921Z
UID:10000072-1774252800-1774458000@uat.nfcc.org.uk
SUMMARY:Rach test
DESCRIPTION:
URL:https://uat.nfcc.org.uk/event/rach-test/
CATEGORIES:Clothing,Conference
ATTACH;FMTTYPE=image/png:https://uat.nfcc.org.uk/wp-content/uploads/2026/02/logo-01.png
END:VEVENT
BEGIN:VEVENT
DTSTART;VALUE=DATE:20260406
DTEND;VALUE=DATE:20260407
DTSTAMP:20260425T163825
CREATED:20260319T144742Z
LAST-MODIFIED:20260319T144742Z
UID:10000071-1775433600-1775519999@uat.nfcc.org.uk
SUMMARY:UAT Ticket Test
DESCRIPTION:Testing
URL:https://uat.nfcc.org.uk/event/uat-ticket-test/
LOCATION:Chesford Grange Hotel\, Chesford Grange Hotel\, Kenilworth\, Warwickshire\, CV8 2LD\, United Kingdom
CATEGORIES:Digital & Data
ATTACH;FMTTYPE=image/png:https://uat.nfcc.org.uk/wp-content/uploads/2026/02/logo-01.png
END:VEVENT
END:VCALENDAR